BEGIN:VCALENDAR
VERSION:2.0
PRODID:-//TYPO3/NONSGML Calendarize//EN
BEGIN:VEVENT
UID:calendarize-trueffel-trueffel-trueffel-20231122
DTSTAMP:20260425T003343Z
DTSTART:20231122T193000Z
SUMMARY:TRÜFFEL\, TRÜFFEL\, TRÜFFEL
DESCRIPTION:Klassenunterschiede und die mit ihnen einhergehenden sozialen 
 Codes sind bestes Komödienmaterial\, das wusste schon im 19. Jahrhundert 
 Eugène Labiche.\nTrüffel Trüffel Trüffel (ursprünglich La poudre aux 
 yeux\, wörtlich übersetzt »Sand in den Augen«) handelt von Kleinbürge
 rn\, die einander Großbürgerlichkeit vorspielen und sich dabei um Kopf u
 nd Kragen reden.\nIm Zentrum steht mit Emmeline und Frédéric ein heirats
 williges Paar\, das allerdings nicht mit seinen Müttern gerechnet hat.\nD
 enn Madame Malingear und Madame Ratinois treiben die Kosten für Aussteuer
  und Feierlichkeiten für die Hochzeit so weit in die Höhe\, dass diese z
 u platzen droht. Egal:\nWer hoch hinaus will\, muss hoch stapeln!\n\nALLE 
 TERMINE:\n18.11.2023 - 19:30 Uhr 19.11.2023 - 18:00 Uhr 21.11.2023 - 19:30
  Uhr 22.11.2023 - 19:30 Uhr 23.11.2023 - 19:30 Uhr 26.11.2023 - 18:00 Uhr
X-ALT-DESC;FMTTYPE=text/html:<p>Klassenunterschiede und die mit ihnen einh
 ergehenden sozialen Codes sind bestes Komödienmaterial\, das wusste schon
  im 19. Jahrhundert Eugène Labiche.</p>\n<p>Trüffel Trüffel Trüffel (u
 rsprünglich La poudre aux yeux\, wörtlich übersetzt »Sand in den Augen
 «) handelt von Kleinbürgern\, die einander Großbürgerlichkeit vorspiel
 en und sich dabei um Kopf und Kragen reden.</p>\n<p>Im Zentrum steht mit E
 mmeline und Frédéric ein heiratswilliges<br /> Paar\, das allerdings nic
 ht mit seinen Müttern gerechnet hat.</p>\n<p>Denn Madame Malingear und Ma
 dame Ratinois treiben die Kosten für Aussteuer und Feierlichkeiten für d
 ie Hochzeit so weit in die Höhe\,<br /> dass diese zu platzen droht. Egal
 :</p>\n<p>Wer hoch hinaus will\, muss hoch stapeln!</p>\n\n<p>ALLE TERMINE
 :</p>\n<p>18.11.2023 - 19:30 Uhr<br /> 19.11.2023 - 18:00 Uhr<br /> 21.11.
 2023 - 19:30 Uhr<br /> 22.11.2023 - 19:30 Uhr<br /> 23.11.2023 - 19:30 Uhr
 <br /> 26.11.2023 - 18:00 Uhr</p>
LOCATION:Gemeindesaal im Marktgemeindeamt Sinabelkirchen\, Sinabelkirchen 
 8\, 8261 Sinabelkirchen
END:VEVENT
END:VCALENDAR
