BEGIN:VCALENDAR
VERSION:2.0
PRODID:-//TYPO3/NONSGML Calendarize//EN
BEGIN:VEVENT
UID:calendarize-die-strategie-der-schmetterlinge-20240611
DTSTAMP:20260421T083317Z
DTSTART:20240611T200000Z
SUMMARY:DIE STRATEGIE DER SCHMETTERLINGE
DESCRIPTION:Ein Bootshaus im Tigre Delta von Buenos Aires war das Liebesne
 st von Adriana und ihrem 30 Jahre älteren Geliebten Carlos. Carlos ist nu
 n tot\, doch der Kampf um ihn geht zwischen Adriana und seiner Ehefrau Eve
  weiter. Hier im Tigre Delta treffen sie unter dem Vorwand einer Aussprach
 e zum ersten Mal aufeinander. Als ungleiche Rivalinnen verfolgen beide ein
 e Strategie\, um ihre Interessen durchzusetzen. Dabei schwirren sie wie Sc
 hmetterlinge umeinander herum\, warten die verletzlichen Momente ab und sc
 hlagen zu. Denn den Kampf um die wahre Liebe kann nur eine gewinnen.\n\nAL
 LE TERMINE:\n03.04.2024 - 20:00 Uhr\n06.04.2024 - 20:00 Uhr\n09.04.2024 - 
 20:00 Uhr\n12.04.2024 - 20:00 Uhr\n17.04.2024 - 20:00 Uhr\n21.04.2024 - 20
 :00 Uhr\n24.04.2024 - 20:00 Uhr\n30.04.2024 - 20:00 Uhr\n11.06.2024 - 20:0
 0 Uhr\n12.06.2024 - 20:00 Uhr
X-ALT-DESC;FMTTYPE=text/html:<p>Ein Bootshaus im Tigre Delta von Buenos Ai
 res war das Liebesnest von Adriana und ihrem 30 Jahre älteren Geliebten C
 arlos. Carlos ist nun tot\, doch der Kampf um ihn geht zwischen Adriana un
 d seiner Ehefrau Eve weiter. Hier im Tigre Delta treffen sie unter dem Vor
 wand einer Aussprache zum ersten Mal aufeinander. Als ungleiche Rivalinnen
  verfolgen beide eine Strategie\, um ihre Interessen durchzusetzen. Dabei 
 schwirren sie wie Schmetterlinge umeinander herum\, warten die verletzlich
 en Momente ab und schlagen zu. Denn den Kampf um die wahre Liebe kann nur 
 eine gewinnen.</p>\n\n<p>ALLE TERMINE:</p>\n<p>03.04.2024 - 20:00 Uhr</p>\
 n<p>06.04.2024 - 20:00 Uhr</p>\n<p>09.04.2024 - 20:00 Uhr</p>\n<p>12.04.20
 24 - 20:00 Uhr</p>\n<p>17.04.2024 - 20:00 Uhr</p>\n<p>21.04.2024 - 20:00 U
 hr</p>\n<p>24.04.2024 - 20:00 Uhr</p>\n<p>30.04.2024 - 20:00 Uhr</p>\n<p>1
 1.06.2024 - 20:00 Uhr</p>\n<p>12.06.2024 - 20:00 Uhr</p>
LOCATION:THEO - großer Saal\, Hauptstraße 7a\, 8762 Pölstal
END:VEVENT
END:VCALENDAR
