BEGIN:VCALENDAR
VERSION:2.0
PRODID:-//TYPO3/NONSGML Calendarize//EN
BEGIN:VEVENT
UID:calendarize-das-gelbe-trikot-20231110
DTSTAMP:20260423T173825Z
DTSTART:20231110T200000Z
SUMMARY:DAS GELBE TRIKOT
DESCRIPTION:"Ich will auch eine Ouvertüre"! Das heißt: Eine vorab Zusam
 menfassung der markantesten musikalischen Gedanken des dann folgenden Werk
 es. Eine Ouvertüre fürs Ballett\, eine Einführung fürs Theater\, e
 ine oder andere flags für Beziehungen\, einen Auftakt für den Leistung
 ssport\, für Druck\, Stress\, process\, growth\, fear\, eine Ouvertüre
  überhaupt. Eine Ouvertüre als Trigger Warnung? In diesem Sinne: "Das 
 gelbe Trikot" verhandelt in expliziter Weise das Thema Gewalt - ausgeübt
  von Erziehungsberechtigten an Schutzbefohlenen\, ausgeübt aber auch im 
 alltäglichen Umgang mit dem eigenen Körper als Trainingsmasse.\nNeben 
 einer Florentina\, einer Marie und einer Natalie diskutieren die Ballerina
  Pawlowa und der Verhaltensforscher Pawlow über Etappensiege\, Gesamtwer
 tungen\, Bergspitzen und Freiflüge\, Leiberl und Leiber\, Puppen\, Pelik
 ane\, Schwäne\, Hunde und Konditionierung\, sowie Spitzenschuhe\, Tschic
 k und Champagnermomente. Coppélia trifft auf Ödipus und vier kleine Sc
 hwäne formieren sich\, wie die Tetris\nSteine fügen sie sich. Aber vor
  allem: I want to ride my bicycle!\n\nALLE TERMINE:\n09.11.2023 - 20:00 Uh
 r 10.11.2023 - 20:00 Uhr 11.11.2023 - 20:00 Uhr 23.11.2023 - 20:00 Uhr 24.
 11.2023 - 20:00 Uhr 25.11.2023 - 20:00 Uhr
X-ALT-DESC;FMTTYPE=text/html:<p>"Ich will auch eine Ouvertüre"! Das heiß
 t: Eine vorab Zusammenfassung der markantesten musikalischen Gedanken des 
 dann folgenden Werkes. Eine Ouvertüre fürs Ballett\, eine Einführung
  fürs Theater\, eine oder andere flags für Beziehungen\, einen Auftakt
  für den<br /> Leistungssport\, für Druck\, Stress\, process\, growth\
 , fear\, eine Ouvertüre<br /> überhaupt. Eine Ouvertüre als Trigger 
 Warnung? In diesem Sinne: "Das gelbe Trikot" verhandelt in expliziter Weis
 e das Thema Gewalt - ausgeübt von Erziehungsberechtigten an Schutzbefohl
 enen\, ausgeübt aber auch im alltäglichen Umgang mit dem eigenen Kör
 per als Trainingsmasse.</p>\n<p>Neben einer Florentina\, einer Marie und e
 iner Natalie diskutieren die Ballerina Pawlowa und der Verhaltensforscher 
 Pawlow über Etappensiege\, Gesamtwertungen\, Bergspitzen und Freiflüge
 \, Leiberl und Leiber\, Puppen\, Pelikane\, Schwäne\, Hunde und Konditio
 nierung\, sowie Spitzenschuhe\, Tschick und Champagnermomente. Coppélia 
 trifft auf Ödipus und vier kleine Schwäne formieren sich\, wie die Tet
 ris</p>\n<p>Steine fügen sie sich. Aber vor allem: I want to ride my bic
 ycle!</p>\n\n<p>ALLE TERMINE:</p>\n<p>09.11.2023 - 20:00 Uhr<br /> 10.11.2
 023 - 20:00 Uhr<br /> 11.11.2023 - 20:00 Uhr<br /> 23.11.2023 - 20:00 Uhr<
 br /> 24.11.2023 - 20:00 Uhr<br /> 25.11.2023 - 20:00 Uhr</p>
LOCATION:Theater am Lend\, Wienerstraße 58a\, 8020 Graz
END:VEVENT
END:VCALENDAR
